BEGIN:VCALENDAR
VERSION:2.0
PRODID:-//Les Entêtés Production - ECPv5.14.0.3//NONSGML v1.0//EN
CALSCALE:GREGORIAN
METHOD:PUBLISH
X-WR-CALNAME:Les Entêtés Production
X-ORIGINAL-URL:https://lesentetes.com/?lang=en
X-WR-CALDESC:Events for Les Entêtés Production
BEGIN:VTIMEZONE
TZID:Europe/Paris
BEGIN:DAYLIGHT
TZOFFSETFROM:+0100
TZOFFSETTO:+0200
TZNAME:CEST
DTSTART:20260329T010000
END:DAYLIGHT
BEGIN:STANDARD
TZOFFSETFROM:+0200
TZOFFSETTO:+0100
TZNAME:CET
DTSTART:20261025T010000
END:STANDARD
END:VTIMEZONE
BEGIN:VEVENT
DTSTART;TZID=Europe/Paris:20260507T000000
DTEND;TZID=Europe/Paris:20260507T000000
DTSTAMP:20260425T160244
CREATED:20251021T123437Z
LAST-MODIFIED:20251021T123437Z
UID:18968-1778112000-1778112000@lesentetes.com
SUMMARY:Lune et Lautre - Ehpad Les Edelweisss\, Ambilly (74)
DESCRIPTION:informations à venir
URL:https://lesentetes.com/event/lune-et-lautre-ehpad-les-edelweisss-ambilly-74/?lang=en
LOCATION:Ehpad Les Edelweisss\, 8 Rue Ravier\, Ambilly\, 74100\, France
CATEGORIES:Lune et Lautre
END:VEVENT
END:VCALENDAR