BEGIN:VCALENDAR
VERSION:2.0
PRODID:-//Les Entêtés Production - ECPv5.14.0.3//NONSGML v1.0//EN
CALSCALE:GREGORIAN
METHOD:PUBLISH
X-WR-CALNAME:Les Entêtés Production
X-ORIGINAL-URL:https://lesentetes.com/?lang=en
X-WR-CALDESC:Events for Les Entêtés Production
BEGIN:VTIMEZONE
TZID:Europe/Paris
BEGIN:DAYLIGHT
TZOFFSETFROM:+0100
TZOFFSETTO:+0200
TZNAME:CEST
DTSTART:20260329T010000
END:DAYLIGHT
BEGIN:STANDARD
TZOFFSETFROM:+0200
TZOFFSETTO:+0100
TZNAME:CET
DTSTART:20261025T010000
END:STANDARD
END:VTIMEZONE
BEGIN:VEVENT
DTSTART;TZID=Europe/Paris:20260602T080000
DTEND;TZID=Europe/Paris:20260602T170000
DTSTAMP:20260425T021010
CREATED:20251021T123333Z
LAST-MODIFIED:20251021T123333Z
UID:18981-1780387200-1780419600@lesentetes.com
SUMMARY:Lune et Lautre - Festival Jazz à Barraux (38) - séance scolaire
DESCRIPTION:informations à venir \nséance scolaire ouverte aux professionnel.les
URL:https://lesentetes.com/event/lune-et-lautre-festival-jazz-a-barraux-38-seance-scolaire/?lang=en
CATEGORIES:Lune et Lautre
END:VEVENT
END:VCALENDAR