BEGIN:VCALENDAR
VERSION:2.0
PRODID:-//Les Entêtés Production - ECPv5.14.0.3//NONSGML v1.0//EN
CALSCALE:GREGORIAN
METHOD:PUBLISH
X-WR-CALNAME:Les Entêtés Production
X-ORIGINAL-URL:https://lesentetes.com
X-WR-CALDESC:évènements pour Les Entêtés Production
BEGIN:VTIMEZONE
TZID:Europe/Paris
BEGIN:DAYLIGHT
TZOFFSETFROM:+0100
TZOFFSETTO:+0200
TZNAME:CEST
DTSTART:20250330T010000
END:DAYLIGHT
BEGIN:STANDARD
TZOFFSETFROM:+0200
TZOFFSETTO:+0100
TZNAME:CET
DTSTART:20251026T010000
END:STANDARD
END:VTIMEZONE
BEGIN:VEVENT
DTSTART;TZID=Europe/Paris:20251129T103000
DTEND;TZID=Europe/Paris:20251129T113000
DTSTAMP:20260420T130204
CREATED:20251007T150737Z
LAST-MODIFIED:20251021T123720Z
UID:18884-1764412200-1764415800@lesentetes.com
SUMMARY:Lune et Lautre - Médiathèque la Fée Verte\, Le Grand Lemps (38)
DESCRIPTION:10h30
URL:https://lesentetes.com/event/lune-et-lautre-mediatheque-la-fee-verte-le-grand-lemps-38/
LOCATION:Médiathèque la Fée Verte\, 7 Rue Joliot Curie\, Le Grand-Lemps\, 38690\, France
CATEGORIES:Lune et Lautre
END:VEVENT
END:VCALENDAR