BEGIN:VCALENDAR
VERSION:2.0
PRODID:-//Les Entêtés Production - ECPv5.14.0.3//NONSGML v1.0//EN
CALSCALE:GREGORIAN
METHOD:PUBLISH
X-WR-CALNAME:Les Entêtés Production
X-ORIGINAL-URL:https://lesentetes.com
X-WR-CALDESC:évènements pour Les Entêtés Production
BEGIN:VTIMEZONE
TZID:Europe/Paris
BEGIN:DAYLIGHT
TZOFFSETFROM:+0100
TZOFFSETTO:+0200
TZNAME:CEST
DTSTART:20220327T010000
END:DAYLIGHT
BEGIN:STANDARD
TZOFFSETFROM:+0200
TZOFFSETTO:+0100
TZNAME:CET
DTSTART:20221030T010000
END:STANDARD
END:VTIMEZONE
BEGIN:VEVENT
DTSTART;TZID=Europe/Paris:20221109T150000
DTEND;TZID=Europe/Paris:20221109T160000
DTSTAMP:20260423T121559
CREATED:20220831T074707Z
LAST-MODIFIED:20220831T074707Z
UID:13842-1668006000-1668009600@lesentetes.com
SUMMARY:SOLEO - CMCL de Gap (05)
DESCRIPTION:Tarif unique : 6 €. Billets en vente au CMCL et sur ticketnet à partir du 26 octobre 2022.
URL:https://lesentetes.com/event/soleo-cmcl-de-gap-05/
LOCATION:CMCL de Gap\, Bd Pierre et Marie Curie\, GAP\, 05000\, France
CATEGORIES:soleo
END:VEVENT
END:VCALENDAR