BEGIN:VCALENDAR
VERSION:2.0
PRODID:-//Les Entêtés Production - ECPv5.14.0.3//NONSGML v1.0//EN
CALSCALE:GREGORIAN
METHOD:PUBLISH
X-WR-CALNAME:Les Entêtés Production
X-ORIGINAL-URL:https://lesentetes.com
X-WR-CALDESC:évènements pour Les Entêtés Production
BEGIN:VTIMEZONE
TZID:Europe/Paris
BEGIN:DAYLIGHT
TZOFFSETFROM:+0100
TZOFFSETTO:+0200
TZNAME:CEST
DTSTART:20220327T010000
END:DAYLIGHT
BEGIN:STANDARD
TZOFFSETFROM:+0200
TZOFFSETTO:+0100
TZNAME:CET
DTSTART:20221030T010000
END:STANDARD
END:VTIMEZONE
BEGIN:VEVENT
DTSTART;TZID=Europe/Paris:20221015T203000
DTEND;TZID=Europe/Paris:20221015T213000
DTSTAMP:20260421T060304
CREATED:20220825T082427Z
LAST-MODIFIED:20220825T082445Z
UID:13812-1665865800-1665869400@lesentetes.com
SUMMARY:SOLEO - L'Escale Culture\, Sucé Sur Erdre (44)
DESCRIPTION:
URL:https://lesentetes.com/event/soleo-lescale-culture-suce-sur-erdre-44/
LOCATION:L’Escale Culture\, 600 Rue de la Papinière\, Sucé sur Erdre\, 44240\, France
CATEGORIES:soleo
END:VEVENT
END:VCALENDAR