BEGIN:VCALENDAR
VERSION:2.0
PRODID:-//Les Entêtés Production - ECPv5.14.0.3//NONSGML v1.0//EN
CALSCALE:GREGORIAN
METHOD:PUBLISH
X-WR-CALNAME:Les Entêtés Production
X-ORIGINAL-URL:https://lesentetes.com/?lang=en
X-WR-CALDESC:Events for Les Entêtés Production
BEGIN:VTIMEZONE
TZID:Europe/Paris
BEGIN:DAYLIGHT
TZOFFSETFROM:+0100
TZOFFSETTO:+0200
TZNAME:CEST
DTSTART:20230326T010000
END:DAYLIGHT
BEGIN:STANDARD
TZOFFSETFROM:+0200
TZOFFSETTO:+0100
TZNAME:CET
DTSTART:20231029T010000
END:STANDARD
END:VTIMEZONE
BEGIN:VEVENT
DTSTART;TZID=Europe/Paris:20230204T170000
DTEND;TZID=Europe/Paris:20230204T180000
DTSTAMP:20260423T044131
CREATED:20221114T134226Z
LAST-MODIFIED:20221114T134226Z
UID:14835-1675530000-1675533600@lesentetes.com
SUMMARY:SOLEO - Maison de la Musique\, Meylan (38)
DESCRIPTION:La billetterie\nEn vente sur place à la mairie (hors frais de location)\nou sur le réseau France billet.\nMode de règlement : chèque\, espèces\, CB\, chèque jeune Isère. \nSi vous bénéficiez d’un tarif réduit\, un justificatif actualisé vous sera demandé. \nPour tout renseignement : 04 76 18 54 00 / 04 76 41 69 64
URL:https://lesentetes.com/event/soleo-maison-de-la-musique-meylan-38/?lang=en
LOCATION:Maison de la Musique\, 4 avenue du Granier\, Meylan\, 38240\, France
CATEGORIES:soleo
END:VEVENT
END:VCALENDAR