BEGIN:VCALENDAR
VERSION:2.0
PRODID:-//Les Entêtés Production - ECPv5.14.0.3//NONSGML v1.0//EN
CALSCALE:GREGORIAN
METHOD:PUBLISH
X-WR-CALNAME:Les Entêtés Production
X-ORIGINAL-URL:https://lesentetes.com/?lang=de
X-WR-CALDESC:Veranstaltungen für Les Entêtés Production
BEGIN:VTIMEZONE
TZID:Europe/Paris
BEGIN:DAYLIGHT
TZOFFSETFROM:+0100
TZOFFSETTO:+0200
TZNAME:CEST
DTSTART:20250330T010000
END:DAYLIGHT
BEGIN:STANDARD
TZOFFSETFROM:+0200
TZOFFSETTO:+0100
TZNAME:CET
DTSTART:20251026T010000
END:STANDARD
END:VTIMEZONE
BEGIN:VEVENT
DTSTART;TZID=Europe/Paris:20250411T200000
DTEND;TZID=Europe/Paris:20250411T210000
DTSTAMP:20260421T061242
CREATED:20240806T093509Z
LAST-MODIFIED:20240806T093509Z
UID:17299-1744401600-1744405200@lesentetes.com
SUMMARY:SOLEO - Salle Pierre Bergé\, L'Eldorado\, Saint-Pierre d'Oléron (17)
DESCRIPTION:informations à venir
URL:https://lesentetes.com/event/soleo-salle-pierre-berge-leldorado-saint-pierre-doleron-17/?lang=de
LOCATION:Salle Pierre Bergé L’Eldorado\, 5 rue de la République\, Saint Pierre d'Oléron\, 17310\, France
CATEGORIES:soleo
END:VEVENT
END:VCALENDAR