BEGIN:VCALENDAR
VERSION:2.0
PRODID:-//Les Entêtés Production - ECPv5.14.0.3//NONSGML v1.0//EN
CALSCALE:GREGORIAN
METHOD:PUBLISH
X-WR-CALNAME:Les Entêtés Production
X-ORIGINAL-URL:https://lesentetes.com/?lang=en
X-WR-CALDESC:Events for Les Entêtés Production
BEGIN:VTIMEZONE
TZID:Europe/Paris
BEGIN:DAYLIGHT
TZOFFSETFROM:+0100
TZOFFSETTO:+0200
TZNAME:CEST
DTSTART:20220327T010000
END:DAYLIGHT
BEGIN:STANDARD
TZOFFSETFROM:+0200
TZOFFSETTO:+0100
TZNAME:CET
DTSTART:20221030T010000
END:STANDARD
END:VTIMEZONE
BEGIN:VEVENT
DTSTART;TZID=Europe/Paris:20220409T170000
DTEND;TZID=Europe/Paris:20220409T180000
DTSTAMP:20260425T160245
CREATED:20220318T145038Z
LAST-MODIFIED:20220318T145101Z
UID:13350-1649523600-1649527200@lesentetes.com
SUMMARY:SOLEO - Théâtre de la Coupe d'Or - Rochefort (17)
DESCRIPTION:
URL:https://lesentetes.com/event/soleo-theatre-de-la-coupe-dor-rochefort-17/?lang=en
LOCATION:Théâtre de la Coupe d’Or\, 101 Rue de la République\, Rochefort\, 17300\, France
CATEGORIES:soleo
END:VEVENT
END:VCALENDAR