BEGIN:VCALENDAR
VERSION:2.0
PRODID:-//Les Entêtés Production - ECPv5.14.0.3//NONSGML v1.0//EN
CALSCALE:GREGORIAN
METHOD:PUBLISH
X-WR-CALNAME:Les Entêtés Production
X-ORIGINAL-URL:https://lesentetes.com
X-WR-CALDESC:évènements pour Les Entêtés Production
BEGIN:VTIMEZONE
TZID:Europe/Paris
BEGIN:DAYLIGHT
TZOFFSETFROM:+0100
TZOFFSETTO:+0200
TZNAME:CEST
DTSTART:20220327T010000
END:DAYLIGHT
BEGIN:STANDARD
TZOFFSETFROM:+0200
TZOFFSETTO:+0100
TZNAME:CET
DTSTART:20221030T010000
END:STANDARD
END:VTIMEZONE
BEGIN:VEVENT
DTSTART;TZID=Europe/Paris:20220326T203000
DTEND;TZID=Europe/Paris:20220326T213000
DTSTAMP:20260425T141923
CREATED:20220216T104703Z
LAST-MODIFIED:20220216T104738Z
UID:13316-1648326600-1648330200@lesentetes.com
SUMMARY:SOLEO - Théâtre des Forges Royales de Guérigny (58)
DESCRIPTION:
URL:https://lesentetes.com/event/soleo-theatre-des-forges-royales-de-guerigny-58/
LOCATION:Théâtre des Forges Royales\, Allée Lafayette\, Guérigny\, 58130\, France
CATEGORIES:soleo
END:VEVENT
END:VCALENDAR