BEGIN:VCALENDAR
VERSION:2.0
PRODID:-//Les Entêtés Production - ECPv5.14.0.3//NONSGML v1.0//EN
CALSCALE:GREGORIAN
METHOD:PUBLISH
X-WR-CALNAME:Les Entêtés Production
X-ORIGINAL-URL:https://lesentetes.com
X-WR-CALDESC:évènements pour Les Entêtés Production
BEGIN:VTIMEZONE
TZID:Europe/Paris
BEGIN:DAYLIGHT
TZOFFSETFROM:+0100
TZOFFSETTO:+0200
TZNAME:CEST
DTSTART:20250330T010000
END:DAYLIGHT
BEGIN:STANDARD
TZOFFSETFROM:+0200
TZOFFSETTO:+0100
TZNAME:CET
DTSTART:20251026T010000
END:STANDARD
END:VTIMEZONE
BEGIN:VEVENT
DTSTART;TZID=Europe/Paris:20250304T200000
DTEND;TZID=Europe/Paris:20250304T210000
DTSTAMP:20260419T211320
CREATED:20240909T090552Z
LAST-MODIFIED:20240909T090623Z
UID:17609-1741118400-1741122000@lesentetes.com
SUMMARY:SOLEO – Théâtre des Jacobins\, Dinan (22)
DESCRIPTION:Séances scolaires ouvertes aux professionnels à 10h et 14h30 \nSéance tout public à 20h
URL:https://lesentetes.com/event/soleo-theatre-des-jacobins-dinan-22-2/
LOCATION:Théâtre des Jacobins\, rue de l'horloge\, Dinan\, 22100\, France
CATEGORIES:soleo
END:VEVENT
END:VCALENDAR