BEGIN:VCALENDAR
VERSION:2.0
PRODID:-//Les Entêtés Production - ECPv5.14.0.3//NONSGML v1.0//EN
CALSCALE:GREGORIAN
METHOD:PUBLISH
X-WR-CALNAME:Les Entêtés Production
X-ORIGINAL-URL:https://lesentetes.com
X-WR-CALDESC:évènements pour Les Entêtés Production
BEGIN:VTIMEZONE
TZID:Europe/Paris
BEGIN:DAYLIGHT
TZOFFSETFROM:+0100
TZOFFSETTO:+0200
TZNAME:CEST
DTSTART:20250330T010000
END:DAYLIGHT
BEGIN:STANDARD
TZOFFSETFROM:+0200
TZOFFSETTO:+0100
TZNAME:CET
DTSTART:20251026T010000
END:STANDARD
END:VTIMEZONE
BEGIN:VEVENT
DTSTART;TZID=Europe/Paris:20250110T153000
DTEND;TZID=Europe/Paris:20250110T163000
DTSTAMP:20260421T143452
CREATED:20241216T150603Z
LAST-MODIFIED:20241216T150603Z
UID:17857-1736523000-1736526600@lesentetes.com
SUMMARY:TÉKLASH - Collège Les Rives du Léman\, Évian-les-Bains (74) - séance scolaire
DESCRIPTION:séance scolaire ouverte aux professionnels
URL:https://lesentetes.com/event/teklash-college-les-rives-du-leman-evian-les-bains-74-seance-scolaire/
LOCATION:Collège Les Rives du Léman\, Évian-les-Bains\, 74500\, France
CATEGORIES:Téklash
END:VEVENT
END:VCALENDAR