BEGIN:VCALENDAR
VERSION:2.0
PRODID:-//Les Entêtés Production - ECPv5.14.0.3//NONSGML v1.0//EN
CALSCALE:GREGORIAN
METHOD:PUBLISH
X-WR-CALNAME:Les Entêtés Production
X-ORIGINAL-URL:https://lesentetes.com
X-WR-CALDESC:évènements pour Les Entêtés Production
BEGIN:VTIMEZONE
TZID:Europe/Paris
BEGIN:DAYLIGHT
TZOFFSETFROM:+0100
TZOFFSETTO:+0200
TZNAME:CEST
DTSTART:20250330T010000
END:DAYLIGHT
BEGIN:STANDARD
TZOFFSETFROM:+0200
TZOFFSETTO:+0100
TZNAME:CET
DTSTART:20251026T010000
END:STANDARD
END:VTIMEZONE
BEGIN:VEVENT
DTSTART;TZID=Europe/Paris:20250111T170000
DTEND;TZID=Europe/Paris:20250111T180000
DTSTAMP:20260421T205236
CREATED:20241216T150854Z
LAST-MODIFIED:20241216T150854Z
UID:17863-1736614800-1736618400@lesentetes.com
SUMMARY:TÉKLASH - École de Musique Neige et Soleil\, Bernex (74) - concert privé
DESCRIPTION:concert privé ouvert aux professionnels
URL:https://lesentetes.com/event/teklash-ecole-de-musique-neige-et-soleil-bernex-74-concert-prive/
LOCATION:École de Musique Neige et Soleil\, Bernex\, 74500\, France
CATEGORIES:Téklash
END:VEVENT
END:VCALENDAR