BEGIN:VCALENDAR
VERSION:2.0
PRODID:-//Les Entêtés Production - ECPv5.14.0.3//NONSGML v1.0//EN
CALSCALE:GREGORIAN
METHOD:PUBLISH
X-WR-CALNAME:Les Entêtés Production
X-ORIGINAL-URL:https://lesentetes.com
X-WR-CALDESC:évènements pour Les Entêtés Production
BEGIN:VTIMEZONE
TZID:Europe/Paris
BEGIN:DAYLIGHT
TZOFFSETFROM:+0100
TZOFFSETTO:+0200
TZNAME:CEST
DTSTART:20250330T010000
END:DAYLIGHT
BEGIN:STANDARD
TZOFFSETFROM:+0200
TZOFFSETTO:+0100
TZNAME:CET
DTSTART:20251026T010000
END:STANDARD
END:VTIMEZONE
BEGIN:VEVENT
DTSTART;TZID=Europe/Paris:20251009T143000
DTEND;TZID=Europe/Paris:20251009T153000
DTSTAMP:20260420T205557
CREATED:20250829T132229Z
LAST-MODIFIED:20250829T132229Z
UID:18701-1760020200-1760023800@lesentetes.com
SUMMARY:TÉKLASH - Salle Lachenal\, Médiathèque de Corbas (69)
DESCRIPTION:https://mediatheque.ville-corbas.fr/ \n14h30 \nSalle Lachenal
URL:https://lesentetes.com/event/teklash-salle-lachenal-mediatheque-de-corbas-69/
LOCATION:Salle Lachenal\, Avenue de Corbetta\, Corbas\, 69960
CATEGORIES:Téklash
END:VEVENT
END:VCALENDAR