BEGIN:VCALENDAR
VERSION:2.0
PRODID:-//Les Entêtés Production - ECPv5.14.0.3//NONSGML v1.0//EN
CALSCALE:GREGORIAN
METHOD:PUBLISH
X-WR-CALNAME:Les Entêtés Production
X-ORIGINAL-URL:https://lesentetes.com/?lang=en
X-WR-CALDESC:Events for Les Entêtés Production
BEGIN:VTIMEZONE
TZID:Europe/Paris
BEGIN:DAYLIGHT
TZOFFSETFROM:+0100
TZOFFSETTO:+0200
TZNAME:CEST
DTSTART:20240331T010000
END:DAYLIGHT
BEGIN:STANDARD
TZOFFSETFROM:+0200
TZOFFSETTO:+0100
TZNAME:CET
DTSTART:20241027T010000
END:STANDARD
END:VTIMEZONE
BEGIN:VEVENT
DTSTART;TZID=Europe/Paris:20240113T190000
DTEND;TZID=Europe/Paris:20240113T210000
DTSTAMP:20260423T143728
CREATED:20230726T082834Z
LAST-MODIFIED:20230726T082905Z
UID:16244-1705172400-1705179600@lesentetes.com
SUMMARY:TRALALA LOVERS - Champagne au Mont d'Or (69)
DESCRIPTION:Informations à venir…
URL:https://lesentetes.com/event/tralala-lovers-champagne-au-mont-dor-69/?lang=en
LOCATION:Champagne au Mont d’Or\, Champagne au Mont d'Or\, 69542\, France
CATEGORIES:Tralala Lovers
END:VEVENT
END:VCALENDAR