BEGIN:VCALENDAR
VERSION:2.0
PRODID:-//Les Entêtés Production - ECPv5.14.0.3//NONSGML v1.0//EN
CALSCALE:GREGORIAN
METHOD:PUBLISH
X-WR-CALNAME:Les Entêtés Production
X-ORIGINAL-URL:https://lesentetes.com
X-WR-CALDESC:évènements pour Les Entêtés Production
BEGIN:VTIMEZONE
TZID:Europe/Paris
BEGIN:DAYLIGHT
TZOFFSETFROM:+0100
TZOFFSETTO:+0200
TZNAME:CEST
DTSTART:20250330T010000
END:DAYLIGHT
BEGIN:STANDARD
TZOFFSETFROM:+0200
TZOFFSETTO:+0100
TZNAME:CET
DTSTART:20251026T010000
END:STANDARD
END:VTIMEZONE
BEGIN:VEVENT
DTSTART;TZID=Europe/Paris:20250606T200000
DTEND;TZID=Europe/Paris:20250606T233000
DTSTAMP:20260421T192532
CREATED:20250226T164551Z
LAST-MODIFIED:20250226T164618Z
UID:17738-1749240000-1749252600@lesentetes.com
SUMMARY:TRALALA LOVERS - Festival Les Trad'Yvresses\, Yvré-l'Évêque (72)
DESCRIPTION:https://www.facebook.com/profile.php?id=61554649438868 \nhttps://agendatrad.org/e_2025-06/les_trad_yvresses_2025–AX4v18R1
URL:https://lesentetes.com/event/tralala-lovers-festival-les-tradyvresses-yvre-leveque-72/
LOCATION:Salle Georges Brassens\, Yvré-l'Évêque\, 72530\, France
CATEGORIES:Tralala Lovers
END:VEVENT
END:VCALENDAR