BEGIN:VCALENDAR
VERSION:2.0
PRODID:-//Les Entêtés Production - ECPv5.14.0.3//NONSGML v1.0//EN
CALSCALE:GREGORIAN
METHOD:PUBLISH
X-WR-CALNAME:Les Entêtés Production
X-ORIGINAL-URL:https://lesentetes.com/?lang=en
X-WR-CALDESC:Events for Les Entêtés Production
BEGIN:VTIMEZONE
TZID:Europe/Paris
BEGIN:DAYLIGHT
TZOFFSETFROM:+0100
TZOFFSETTO:+0200
TZNAME:CEST
DTSTART:20250330T010000
END:DAYLIGHT
BEGIN:STANDARD
TZOFFSETFROM:+0200
TZOFFSETTO:+0100
TZNAME:CET
DTSTART:20251026T010000
END:STANDARD
END:VTIMEZONE
BEGIN:VEVENT
DTSTART;TZID=Europe/Paris:20251129T203000
DTEND;TZID=Europe/Paris:20251129T233000
DTSTAMP:20260420T233254
CREATED:20250804T094814Z
LAST-MODIFIED:20250804T094833Z
UID:18583-1764448200-1764459000@lesentetes.com
SUMMARY:TRALALA LOVERS - Festiv'Danse\, Villeneuve-d'Ascq (59)
DESCRIPTION:Programme\n\nLe Festiv’Danse revient en salle le 29 Novembre 2025 à l’Espace Concorde\, Villeneuve d’Ascq. Nous avons le grand plaisir d’accueillir La Réveilleuse\, duo chant/guitare avec Camille Lachenal et Simon McDonnell\, ainsi que les Tralala Lovers\, duo composé de Vincent Gaffet et Diego Meymarian\, chanteurs et multi-instrumentistes. \nFB : Festiv’Danse 2025 \nLe bal sera précédé dans l’après-midi d’un stage de Congo de Captieux animé par Camille Lachenal. \nTarif plein : 6€ \nTarif réduit : 5€ \nGratuit -16 ans \nStage de Congo : 8€ \nStage + Bal : 10 € \nLien à venir pour les pré-ventes en ligne au bal et au stage. \nPetite restauration sur place. \nAccès : Bus 32\, 34\, L6
URL:https://lesentetes.com/event/tralala-lovers-festivdanse-villeneuve-dascq-59/?lang=en
LOCATION:Espace Concorde Villeneuve d’Ascq\, 51-53\, Chemin des Crieurs\, Villeneuve d'Ascq\, 59650\, France
CATEGORIES:Tralala Lovers
END:VEVENT
END:VCALENDAR