BEGIN:VCALENDAR
VERSION:2.0
PRODID:-//Les Entêtés Production - ECPv5.14.0.3//NONSGML v1.0//EN
CALSCALE:GREGORIAN
METHOD:PUBLISH
X-WR-CALNAME:Les Entêtés Production
X-ORIGINAL-URL:https://lesentetes.com/?lang=de
X-WR-CALDESC:Veranstaltungen für Les Entêtés Production
BEGIN:VTIMEZONE
TZID:Europe/Paris
BEGIN:DAYLIGHT
TZOFFSETFROM:+0100
TZOFFSETTO:+0200
TZNAME:CEST
DTSTART:20250330T010000
END:DAYLIGHT
BEGIN:STANDARD
TZOFFSETFROM:+0200
TZOFFSETTO:+0100
TZNAME:CET
DTSTART:20251026T010000
END:STANDARD
END:VTIMEZONE
BEGIN:VEVENT
DTSTART;TZID=Europe/Paris:20251011T203000
DTEND;TZID=Europe/Paris:20251011T223000
DTSTAMP:20260424T094405
CREATED:20250804T093503Z
LAST-MODIFIED:20250804T093503Z
UID:18570-1760214600-1760221800@lesentetes.com
SUMMARY:TRALALALOVERS - L'Extra Bal\, Valmont (76)
DESCRIPTION:Programme\n\nL’Extra Bal #4 à Valmont\, à partir de 20h30 : \n\nles Tralala Lovers\nNo&mi\n\nStage d’initiation à partir de 17h30 : Vous y découvrirez les danses de base du bal. Ce stage est fortement recommandé aux débutants car nous montrerons très peu de danses pendant le bal. \nInformations : \nhttps://sites.google.com/site/dansefolkafecamp/evenements/bal-11-octobre-2025/ \nRéservations : \nhttps://r2folk.assoconnect.com/collect/description/548923-j-l-extra-bal-4
URL:https://lesentetes.com/event/tralalalovers-lextra-bal-valmont-76/?lang=de
LOCATION:Salle de la Concorde\, 13\, Rue Louis Barbier\, Valmont\, 76540\, France
CATEGORIES:Tralala Lovers
END:VEVENT
END:VCALENDAR