BEGIN:VCALENDAR
VERSION:2.0
PRODID:-//Les Entêtés Production - ECPv5.14.0.3//NONSGML v1.0//EN
CALSCALE:GREGORIAN
METHOD:PUBLISH
X-WR-CALNAME:Les Entêtés Production
X-ORIGINAL-URL:https://lesentetes.com/?lang=en
X-WR-CALDESC:Events for Les Entêtés Production
BEGIN:VTIMEZONE
TZID:Europe/Paris
BEGIN:DAYLIGHT
TZOFFSETFROM:+0100
TZOFFSETTO:+0200
TZNAME:CEST
DTSTART:20250330T010000
END:DAYLIGHT
BEGIN:STANDARD
TZOFFSETFROM:+0200
TZOFFSETTO:+0100
TZNAME:CET
DTSTART:20251026T010000
END:STANDARD
END:VTIMEZONE
BEGIN:VEVENT
DTSTART;TZID=Europe/Paris:20251115T203000
DTEND;TZID=Europe/Paris:20251115T220000
DTSTAMP:20260420T131354
CREATED:20250708T102055Z
LAST-MODIFIED:20250708T102120Z
UID:18404-1763238600-1763244000@lesentetes.com
SUMMARY:TRAM Alligator Tour - Espace Culturel du Brionnais\, Chauffailles (71)
DESCRIPTION:informations à venir
URL:https://lesentetes.com/event/tram-alligator-tour-espace-culturel-du-brionnais-chauffailles-71/?lang=en
LOCATION:Espace Culturel du Brionnais\, 2 ter Rue Gambetta\, Chauffailles\, 71170\, France
CATEGORIES:Tram
END:VEVENT
END:VCALENDAR