BEGIN:VCALENDAR
VERSION:2.0
PRODID:-//Les Entêtés Production - ECPv5.14.0.3//NONSGML v1.0//EN
CALSCALE:GREGORIAN
METHOD:PUBLISH
X-WR-CALNAME:Les Entêtés Production
X-ORIGINAL-URL:https://lesentetes.com
X-WR-CALDESC:évènements pour Les Entêtés Production
BEGIN:VTIMEZONE
TZID:Europe/Paris
BEGIN:DAYLIGHT
TZOFFSETFROM:+0100
TZOFFSETTO:+0200
TZNAME:CEST
DTSTART:20250330T010000
END:DAYLIGHT
BEGIN:STANDARD
TZOFFSETFROM:+0200
TZOFFSETTO:+0100
TZNAME:CET
DTSTART:20251026T010000
END:STANDARD
END:VTIMEZONE
BEGIN:VEVENT
DTSTART;TZID=Europe/Paris:20250627T203000
DTEND;TZID=Europe/Paris:20250627T220000
DTSTAMP:20260421T024128
CREATED:20250325T152726Z
LAST-MODIFIED:20250325T152726Z
UID:18102-1751056200-1751061600@lesentetes.com
SUMMARY:TRAM Alligator Tour – Festival des Cultures du Monde\, Voiron (38)
DESCRIPTION:20h30 \nPlace du Général Leclerc\, 38500 Voiron \n(repli Salle des Fêtes de Voiron en cas de mauvaises conditions météo)
URL:https://lesentetes.com/event/tram-alligator-tour-festival-des-cultures-du-monde-voiron-38/
LOCATION:ATP Salmorenc\, Place du Général Leclerc\, Voiron\, France
CATEGORIES:Tram
END:VEVENT
END:VCALENDAR