BEGIN:VCALENDAR
VERSION:2.0
PRODID:-//Les Entêtés Production - ECPv5.14.0.3//NONSGML v1.0//EN
CALSCALE:GREGORIAN
METHOD:PUBLISH
X-WR-CALNAME:Les Entêtés Production
X-ORIGINAL-URL:https://lesentetes.com
X-WR-CALDESC:évènements pour Les Entêtés Production
BEGIN:VTIMEZONE
TZID:Europe/Paris
BEGIN:DAYLIGHT
TZOFFSETFROM:+0100
TZOFFSETTO:+0200
TZNAME:CEST
DTSTART:20220327T010000
END:DAYLIGHT
BEGIN:STANDARD
TZOFFSETFROM:+0200
TZOFFSETTO:+0100
TZNAME:CET
DTSTART:20221030T010000
END:STANDARD
END:VTIMEZONE
BEGIN:VEVENT
DTSTART;TZID=Europe/Paris:20220319T200000
DTEND;TZID=Europe/Paris:20220319T220000
DTSTAMP:20260425T160238
CREATED:20220211T135150Z
LAST-MODIFIED:20220211T135259Z
UID:13225-1647720000-1647727200@lesentetes.com
SUMMARY:TRAM des Balkans - Bürgersaal - Oberhaching (Allemagne)
DESCRIPTION:
URL:https://lesentetes.com/event/tram-des-balkans-burgersaal-oberhaching-allemagne/
LOCATION:Bürgessaal\, Oberhaching\, 82041\, Allemagne
CATEGORIES:Tram
END:VEVENT
END:VCALENDAR