BEGIN:VCALENDAR
VERSION:2.0
PRODID:-//Les Entêtés Production - ECPv5.14.0.3//NONSGML v1.0//EN
CALSCALE:GREGORIAN
METHOD:PUBLISH
X-WR-CALNAME:Les Entêtés Production
X-ORIGINAL-URL:https://lesentetes.com/?lang=de
X-WR-CALDESC:Veranstaltungen für Les Entêtés Production
BEGIN:VTIMEZONE
TZID:Europe/Paris
BEGIN:DAYLIGHT
TZOFFSETFROM:+0100
TZOFFSETTO:+0200
TZNAME:CEST
DTSTART:20220327T010000
END:DAYLIGHT
BEGIN:STANDARD
TZOFFSETFROM:+0200
TZOFFSETTO:+0100
TZNAME:CET
DTSTART:20221030T010000
END:STANDARD
END:VTIMEZONE
BEGIN:VEVENT
DTSTART;TZID=Europe/Paris:20220525T080000
DTEND;TZID=Europe/Paris:20220525T170000
DTSTAMP:20260425T125523
CREATED:20220525T095727Z
LAST-MODIFIED:20220525T095727Z
UID:13552-1653465600-1653498000@lesentetes.com
SUMMARY:TRAM des Balkans - En Place - Annonay (07)
DESCRIPTION:
URL:https://lesentetes.com/event/tram-des-balkans-en-place-annonay-07/?lang=de
LOCATION:Place des Cordeliers\, Annonay\, 07100
CATEGORIES:Tram
END:VEVENT
END:VCALENDAR