BEGIN:VCALENDAR
VERSION:2.0
PRODID:-//Les Entêtés Production - ECPv5.14.0.3//NONSGML v1.0//EN
CALSCALE:GREGORIAN
METHOD:PUBLISH
X-WR-CALNAME:Les Entêtés Production
X-ORIGINAL-URL:https://lesentetes.com
X-WR-CALDESC:évènements pour Les Entêtés Production
BEGIN:VTIMEZONE
TZID:Europe/Paris
BEGIN:DAYLIGHT
TZOFFSETFROM:+0100
TZOFFSETTO:+0200
TZNAME:CEST
DTSTART:20220327T010000
END:DAYLIGHT
BEGIN:STANDARD
TZOFFSETFROM:+0200
TZOFFSETTO:+0100
TZNAME:CET
DTSTART:20221030T010000
END:STANDARD
END:VTIMEZONE
BEGIN:VEVENT
DTSTART;TZID=Europe/Paris:20220603T193000
DTEND;TZID=Europe/Paris:20220603T213000
DTSTAMP:20260425T021012
CREATED:20220421T131729Z
LAST-MODIFIED:20220602T140024Z
UID:13383-1654284600-1654291800@lesentetes.com
SUMMARY:TRAM des Balkans - Festival d'Art et d'Air - Lyon La Duchère (69)
DESCRIPTION:19h30 – Compagnie Hallet Eghayan – Tram des Balkans\nDANSONS AVEC TRAM DES BALKANS ! \nTutos des chorégraphies: https://www.festival-dartetdair.fr/project/1037/ \nEn cas de pluie\, repli du spectacle à La Maison des Fêtes et des Familles \n  \n\n\n\n\n\n\n\n\n\n\nDANSONS AVEC TRAM DES BALKANS ! \n\n\n\n\n\n20h45 – Tram des Balkans\nConcert Kobiz Project
URL:https://lesentetes.com/event/tram-des-balkans-festival-dart-et-dair-lyon-la-duchere-69/
CATEGORIES:Tram
END:VEVENT
END:VCALENDAR