BEGIN:VCALENDAR
VERSION:2.0
PRODID:-//Les Entêtés Production - ECPv5.14.0.3//NONSGML v1.0//EN
CALSCALE:GREGORIAN
METHOD:PUBLISH
X-WR-CALNAME:Les Entêtés Production
X-ORIGINAL-URL:https://lesentetes.com
X-WR-CALDESC:évènements pour Les Entêtés Production
BEGIN:VTIMEZONE
TZID:Europe/Paris
BEGIN:DAYLIGHT
TZOFFSETFROM:+0100
TZOFFSETTO:+0200
TZNAME:CEST
DTSTART:20210328T010000
END:DAYLIGHT
BEGIN:STANDARD
TZOFFSETFROM:+0200
TZOFFSETTO:+0100
TZNAME:CET
DTSTART:20211031T010000
END:STANDARD
END:VTIMEZONE
BEGIN:VEVENT
DTSTART;TZID=Europe/Paris:20210724T200000
DTEND;TZID=Europe/Paris:20210724T200000
DTSTAMP:20260425T125609
CREATED:20210601T133854Z
LAST-MODIFIED:20210601T135312Z
UID:12334-1627156800-1627156800@lesentetes.com
SUMMARY:TRAM des Balkans - Festival du Cri de la Goutte - Menthières (01)
DESCRIPTION:
URL:https://lesentetes.com/event/tram-des-balkans-festival-du-cri-de-la-goutte-menthieres-01/
CATEGORIES:Tram
END:VEVENT
END:VCALENDAR