BEGIN:VCALENDAR
VERSION:2.0
PRODID:-//Les Entêtés Production - ECPv5.14.0.3//NONSGML v1.0//EN
CALSCALE:GREGORIAN
METHOD:PUBLISH
X-WR-CALNAME:Les Entêtés Production
X-ORIGINAL-URL:https://lesentetes.com
X-WR-CALDESC:évènements pour Les Entêtés Production
BEGIN:VTIMEZONE
TZID:Europe/Paris
BEGIN:DAYLIGHT
TZOFFSETFROM:+0100
TZOFFSETTO:+0200
TZNAME:CEST
DTSTART:20250330T010000
END:DAYLIGHT
BEGIN:STANDARD
TZOFFSETFROM:+0200
TZOFFSETTO:+0100
TZNAME:CET
DTSTART:20251026T010000
END:STANDARD
END:VTIMEZONE
BEGIN:VEVENT
DTSTART;TZID=Europe/Paris:20250328T200000
DTEND;TZID=Europe/Paris:20250328T213000
DTSTAMP:20260421T125701
CREATED:20241119T140202Z
LAST-MODIFIED:20250106T161855Z
UID:17404-1743192000-1743197400@lesentetes.com
SUMMARY:TRAM Alligator Tour - Villa Leon Nürnberg (DE)
DESCRIPTION:28/03/24 \n20h00
URL:https://lesentetes.com/event/tram-des-balkans-german-tour-villa-leon-nurnberg-de/
LOCATION:Villa Leon\, Philipp-Koerber-Weg 1\, Nürnberg\, 90439\, Allemagne
CATEGORIES:Tram
END:VEVENT
END:VCALENDAR