BEGIN:VCALENDAR
VERSION:2.0
PRODID:-//Les Entêtés Production - ECPv5.14.0.3//NONSGML v1.0//EN
CALSCALE:GREGORIAN
METHOD:PUBLISH
X-WR-CALNAME:Les Entêtés Production
X-ORIGINAL-URL:https://lesentetes.com
X-WR-CALDESC:évènements pour Les Entêtés Production
BEGIN:VTIMEZONE
TZID:Europe/Paris
BEGIN:DAYLIGHT
TZOFFSETFROM:+0100
TZOFFSETTO:+0200
TZNAME:CEST
DTSTART:20240331T010000
END:DAYLIGHT
BEGIN:STANDARD
TZOFFSETFROM:+0200
TZOFFSETTO:+0100
TZNAME:CET
DTSTART:20241027T010000
END:STANDARD
END:VTIMEZONE
BEGIN:VEVENT
DTSTART;TZID=Europe/Paris:20240817T213000
DTEND;TZID=Europe/Paris:20240817T230000
DTSTAMP:20260422T025225
CREATED:20240614T124729Z
LAST-MODIFIED:20240614T124729Z
UID:17041-1723930200-1723935600@lesentetes.com
SUMMARY:TRAM des Balkans\, Kobiz Project - Fête de l'Été\, Burdignes (42)
DESCRIPTION:samedi 17 août 2024 \n21h30 \nPlace du Bourg du Feu\, 42220 Burdignes \nPrix Libre
URL:https://lesentetes.com/event/tram-des-balkans-kobiz-project-fete-de-lete-burdignes-42/
LOCATION:Fête de l’Été Burdignes\, Place du Bourg du Feu\, Burdignes\, 42220\, France
CATEGORIES:Tram
END:VEVENT
END:VCALENDAR