BEGIN:VCALENDAR
VERSION:2.0
PRODID:-//Les Entêtés Production - ECPv5.14.0.3//NONSGML v1.0//EN
CALSCALE:GREGORIAN
METHOD:PUBLISH
X-WR-CALNAME:Les Entêtés Production
X-ORIGINAL-URL:https://lesentetes.com
X-WR-CALDESC:évènements pour Les Entêtés Production
BEGIN:VTIMEZONE
TZID:Europe/Paris
BEGIN:DAYLIGHT
TZOFFSETFROM:+0100
TZOFFSETTO:+0200
TZNAME:CEST
DTSTART:20240331T010000
END:DAYLIGHT
BEGIN:STANDARD
TZOFFSETFROM:+0200
TZOFFSETTO:+0100
TZNAME:CET
DTSTART:20241027T010000
END:STANDARD
END:VTIMEZONE
BEGIN:VEVENT
DTSTART;TZID=Europe/Paris:20240720T180000
DTEND;TZID=Europe/Paris:20240720T193000
DTSTAMP:20260422T182215
CREATED:20240523T094740Z
LAST-MODIFIED:20240523T094740Z
UID:16909-1721498400-1721503800@lesentetes.com
SUMMARY:TRAM des Balkans\, Kobiz Project - Innsbruck Bridge Beat Festival (AUT)
DESCRIPTION:https://www.bridgebeatfestival.at/ \nDie Straßenbahn der Balkanländer rollt direkt aus Grenoble an und hat im Gepäcknetz nichts Geringeres als einen Vulkan. Die Musik lehnt sich nach wie vor an den Klezmer-Melodien und an die traditionellen Stücken von Zentral Europa. Ihr besonderes Gepräge hat sie aber erst durch die unbändige Entdeckungsfreude und Kreativität der Musiker erhalten. \nThe streetcar of the Balkan countries rolls in directly from Grenoble and has nothing less than a volcano in its luggage net. The music is still based on klezmer melodies and traditional pieces from Central Europe. But it is the musicians’ unbridled joy of discovery and creativity that has given it its special character. \nIl tram dei Paesi balcanici arriva direttamente da Grenoble e ha nel suo bagagliaio niente meno che un vulcano. La musica si basa ancora sulle melodie klezmer e sui brani tradizionali dell’Europa centrale. Tuttavia\, ha acquisito il suo carattere speciale solo grazie alla gioia sfrenata dei musicisti per la scoperta e la creatività. \n 
URL:https://lesentetes.com/event/tram-des-balkans-kobiz-project-innsbruck-bridge-beat-festival-aut/
LOCATION:Innsbruck Bridge Beat Festival\, Innsbruck\, 6020\, Autriche
CATEGORIES:Tram
END:VEVENT
END:VCALENDAR