BEGIN:VCALENDAR
VERSION:2.0
PRODID:-//Les Entêtés Production - ECPv5.14.0.3//NONSGML v1.0//EN
CALSCALE:GREGORIAN
METHOD:PUBLISH
X-WR-CALNAME:Les Entêtés Production
X-ORIGINAL-URL:https://lesentetes.com
X-WR-CALDESC:évènements pour Les Entêtés Production
BEGIN:VTIMEZONE
TZID:Europe/Paris
BEGIN:DAYLIGHT
TZOFFSETFROM:+0100
TZOFFSETTO:+0200
TZNAME:CEST
DTSTART:20210328T010000
END:DAYLIGHT
BEGIN:STANDARD
TZOFFSETFROM:+0200
TZOFFSETTO:+0100
TZNAME:CET
DTSTART:20211031T010000
END:STANDARD
END:VTIMEZONE
BEGIN:VEVENT
DTSTART;TZID=Europe/Paris:20210626T210000
DTEND;TZID=Europe/Paris:20210626T230000
DTSTAMP:20260426T055237
CREATED:20210525T074747Z
LAST-MODIFIED:20210525T074747Z
UID:12313-1624741200-1624748400@lesentetes.com
SUMMARY:TRAM des Balkans - Les Nuits du Cloître - Abbaye de Mozac (63)
DESCRIPTION:
URL:https://lesentetes.com/event/tram-des-balkans-les-nuits-du-cloitre-abbaye-de-mozac-63/
CATEGORIES:Tram
END:VEVENT
END:VCALENDAR