BEGIN:VCALENDAR
VERSION:2.0
PRODID:-//Les Entêtés Production - ECPv5.14.0.3//NONSGML v1.0//EN
CALSCALE:GREGORIAN
METHOD:PUBLISH
X-WR-CALNAME:Les Entêtés Production
X-ORIGINAL-URL:https://lesentetes.com/?lang=de
X-WR-CALDESC:Veranstaltungen für Les Entêtés Production
BEGIN:VTIMEZONE
TZID:Europe/Paris
BEGIN:DAYLIGHT
TZOFFSETFROM:+0100
TZOFFSETTO:+0200
TZNAME:CEST
DTSTART:20220327T010000
END:DAYLIGHT
BEGIN:STANDARD
TZOFFSETFROM:+0200
TZOFFSETTO:+0100
TZNAME:CET
DTSTART:20221030T010000
END:STANDARD
END:VTIMEZONE
BEGIN:VEVENT
DTSTART;TZID=Europe/Paris:20220318T200000
DTEND;TZID=Europe/Paris:20220318T220000
DTSTAMP:20260420T084038
CREATED:20220209T164405Z
LAST-MODIFIED:20220209T164438Z
UID:13160-1647633600-1647640800@lesentetes.com
SUMMARY:TRAM des Balkans - Puchheimer Kulturcentrum - Puchheim (Allemagne)
DESCRIPTION:
URL:https://lesentetes.com/event/tram-des-balkans-puchheimer-kulturcentrum-puchheim-allemagne/?lang=de
LOCATION:Puchheimer Kulturcentrum\, Oskar-Maria-Graf-Str.2\, Puchheim\, 82178\, Allemagne
CATEGORIES:Tram
END:VEVENT
END:VCALENDAR