BEGIN:VCALENDAR
VERSION:2.0
PRODID:-//Les Entêtés Production - ECPv5.14.0.3//NONSGML v1.0//EN
CALSCALE:GREGORIAN
METHOD:PUBLISH
X-WR-CALNAME:Les Entêtés Production
X-ORIGINAL-URL:https://lesentetes.com
X-WR-CALDESC:évènements pour Les Entêtés Production
BEGIN:VTIMEZONE
TZID:Europe/Paris
BEGIN:DAYLIGHT
TZOFFSETFROM:+0100
TZOFFSETTO:+0200
TZNAME:CEST
DTSTART:20240331T010000
END:DAYLIGHT
BEGIN:STANDARD
TZOFFSETFROM:+0200
TZOFFSETTO:+0100
TZNAME:CET
DTSTART:20241027T010000
END:STANDARD
END:VTIMEZONE
BEGIN:VEVENT
DTSTART;TZID=Europe/Paris:20240314T203000
DTEND;TZID=Europe/Paris:20240314T223000
DTSTAMP:20260423T073948
CREATED:20231030T092823Z
LAST-MODIFIED:20240112T102958Z
UID:16493-1710448200-1710455400@lesentetes.com
SUMMARY:TRAM et Mélissa Zantman\, En cavale - Glockenbachwerkstatt\, München (DE)
DESCRIPTION:TRAM DES BALKANS & MÉLISSA ZANTMAN \n \n 
URL:https://lesentetes.com/event/tram-et-melissa-zantman-en-cavale-glockenbachwerkstatt-munchen-de/
LOCATION:Glockenbachwerkstatt\, Blumenstraße 7\, München\, 80469\, Allemagne
CATEGORIES:Tram,Trametmelissa
END:VEVENT
END:VCALENDAR