BEGIN:VCALENDAR
VERSION:2.0
PRODID:-//Les Entêtés Production - ECPv5.14.0.3//NONSGML v1.0//EN
CALSCALE:GREGORIAN
METHOD:PUBLISH
X-WR-CALNAME:Les Entêtés Production
X-ORIGINAL-URL:https://lesentetes.com
X-WR-CALDESC:évènements pour Les Entêtés Production
BEGIN:VTIMEZONE
TZID:Europe/Paris
BEGIN:DAYLIGHT
TZOFFSETFROM:+0100
TZOFFSETTO:+0200
TZNAME:CEST
DTSTART:20240331T010000
END:DAYLIGHT
BEGIN:STANDARD
TZOFFSETFROM:+0200
TZOFFSETTO:+0100
TZNAME:CET
DTSTART:20241027T010000
END:STANDARD
END:VTIMEZONE
BEGIN:VEVENT
DTSTART;TZID=Europe/Paris:20240713T203000
DTEND;TZID=Europe/Paris:20240713T220000
DTSTAMP:20260422T182207
CREATED:20240523T133621Z
LAST-MODIFIED:20240523T133645Z
UID:16903-1720902600-1720908000@lesentetes.com
SUMMARY:TRAM et Mélissa Zantman\, En cavale - Les Endimanchés\, Saint Pierre de Chartreuse (38)
DESCRIPTION:https://les-endimanches.fr/festival \nJardin du Père Truffot 38380 Saint Pierre de Chartreuse \n \n 
URL:https://lesentetes.com/event/tram-et-melissa-zantman-en-cavale-les-endimanches-saint-pierre-de-chartreuse-38/
LOCATION:Les Endimanchés\, Saint-Pierre-de-Chartreuse\, 38380\, France
CATEGORIES:Tram,Trametmelissa
END:VEVENT
END:VCALENDAR