BEGIN:VCALENDAR
VERSION:2.0
PRODID:-//Les Entêtés Production - ECPv5.14.0.3//NONSGML v1.0//EN
CALSCALE:GREGORIAN
METHOD:PUBLISH
X-WR-CALNAME:Les Entêtés Production
X-ORIGINAL-URL:https://lesentetes.com
X-WR-CALDESC:évènements pour Les Entêtés Production
BEGIN:VTIMEZONE
TZID:Europe/Paris
BEGIN:DAYLIGHT
TZOFFSETFROM:+0100
TZOFFSETTO:+0200
TZNAME:CEST
DTSTART:20230326T010000
END:DAYLIGHT
BEGIN:STANDARD
TZOFFSETFROM:+0200
TZOFFSETTO:+0100
TZNAME:CET
DTSTART:20231029T010000
END:STANDARD
END:VTIMEZONE
BEGIN:VEVENT
DTSTART;TZID=Europe/Paris:20230707T193000
DTEND;TZID=Europe/Paris:20230707T210000
DTSTAMP:20260424T045233
CREATED:20230505T072621Z
LAST-MODIFIED:20230531T125634Z
UID:15607-1688758200-1688763600@lesentetes.com
SUMMARY:TRAM et Mélissa Zantman\, En Cavale - Tournée Matheysine : La Motte Saint Martin (38)
DESCRIPTION:TRAM et Mélissa Zantman\, En Cavale – Tournée Matheysine (38) \n6.07.23 19h30 Le Périer\, cour de la Bibliothèque \n7.07.23 19h30 La Motte Saint Martin\, devant la Mairie \n8.07.23 19h30 Saint Théoffrey\, place de l’Église \n9.07.23 19h30 La Salle en Beaumont\, abords du Stade \n(replis proches des lieux annoncés en cas de mauvaises conditions météorologiques !) \nGRATUIT
URL:https://lesentetes.com/event/tram-et-melissa-zantman-en-cavale-tournee-matheysine-jour-2-38/
LOCATION:Mairie\, 1 Espace Jean MAGNAT\, La Motte Saint Martin\, 38770\, France
CATEGORIES:Tram,Trametmelissa
END:VEVENT
END:VCALENDAR