BEGIN:VCALENDAR
VERSION:2.0
PRODID:-//Les Entêtés Production - ECPv5.14.0.3//NONSGML v1.0//EN
CALSCALE:GREGORIAN
METHOD:PUBLISH
X-WR-CALNAME:Les Entêtés Production
X-ORIGINAL-URL:https://lesentetes.com/?lang=en
X-WR-CALDESC:Events for Les Entêtés Production
BEGIN:VTIMEZONE
TZID:Europe/Paris
BEGIN:DAYLIGHT
TZOFFSETFROM:+0100
TZOFFSETTO:+0200
TZNAME:CEST
DTSTART:20230326T010000
END:DAYLIGHT
BEGIN:STANDARD
TZOFFSETFROM:+0200
TZOFFSETTO:+0100
TZNAME:CET
DTSTART:20231029T010000
END:STANDARD
END:VTIMEZONE
BEGIN:VEVENT
DTSTART;TZID=Europe/Paris:20230318T200000
DTEND;TZID=Europe/Paris:20230318T213000
DTSTAMP:20260423T045951
CREATED:20221018T092322Z
LAST-MODIFIED:20230221T085536Z
UID:14425-1679169600-1679175000@lesentetes.com
SUMMARY:TRAM et Mélissa Zantman\, En cavale - Villa Leon\, Nürnberg (DE)
DESCRIPTION:
URL:https://lesentetes.com/event/tram-et-melissa-zantman-en-cavale-villa-leon-nurnberg-de/?lang=en
LOCATION:Villa Leon\, Philipp-Koerber-Weg 1\, Nürnberg\, 90439\, Allemagne
CATEGORIES:Tram,Trametmelissa
END:VEVENT
END:VCALENDAR