BEGIN:VCALENDAR
VERSION:2.0
PRODID:-//Les Entêtés Production - ECPv5.14.0.3//NONSGML v1.0//EN
CALSCALE:GREGORIAN
METHOD:PUBLISH
X-WR-CALNAME:Les Entêtés Production
X-ORIGINAL-URL:https://lesentetes.com
X-WR-CALDESC:évènements pour Les Entêtés Production
BEGIN:VTIMEZONE
TZID:Europe/Paris
BEGIN:DAYLIGHT
TZOFFSETFROM:+0100
TZOFFSETTO:+0200
TZNAME:CEST
DTSTART:20220327T010000
END:DAYLIGHT
BEGIN:STANDARD
TZOFFSETFROM:+0200
TZOFFSETTO:+0100
TZNAME:CET
DTSTART:20221030T010000
END:STANDARD
END:VTIMEZONE
BEGIN:VEVENT
DTSTART;TZID=Europe/Paris:20221001T210000
DTEND;TZID=Europe/Paris:20221001T223000
DTSTAMP:20260421T112027
CREATED:20220824T144345Z
LAST-MODIFIED:20220824T144420Z
UID:13774-1664658000-1664663400@lesentetes.com
SUMMARY:TRAM des Balkans et Mélissa Zantman en cavale - La Palène - Rouillac (16)
DESCRIPTION:
URL:https://lesentetes.com/event/tram-des-balkans-et-melissa-zantman-en-cavale-la-palene-rouillac-16/
LOCATION:La Palène\, Rouillac\, 16
CATEGORIES:Tram
END:VEVENT
END:VCALENDAR