BEGIN:VCALENDAR
VERSION:2.0
PRODID:-//Les Entêtés Production - ECPv5.14.0.3//NONSGML v1.0//EN
CALSCALE:GREGORIAN
METHOD:PUBLISH
X-WR-CALNAME:Les Entêtés Production
X-ORIGINAL-URL:https://lesentetes.com
X-WR-CALDESC:évènements pour Les Entêtés Production
BEGIN:VTIMEZONE
TZID:Europe/Paris
BEGIN:DAYLIGHT
TZOFFSETFROM:+0100
TZOFFSETTO:+0200
TZNAME:CEST
DTSTART:20260329T010000
END:DAYLIGHT
BEGIN:STANDARD
TZOFFSETFROM:+0200
TZOFFSETTO:+0100
TZNAME:CET
DTSTART:20261025T010000
END:STANDARD
END:VTIMEZONE
BEGIN:VEVENT
DTSTART;TZID=Europe/Paris:20260326T170000
DTEND;TZID=Europe/Paris:20260326T180000
DTSTAMP:20260420T124640
CREATED:20251007T151234Z
LAST-MODIFIED:20251021T123617Z
UID:18892-1774544400-1774548000@lesentetes.com
SUMMARY:Lune et Lautre - Festival P'tits Mots P'tits Mômes\, La Locomotive\, Vizille (38)
DESCRIPTION:informations à venir
URL:https://lesentetes.com/event/lune-et-lautre-festival-ptits-mots-ptits-momes-la-locomotive-vizille-38/
LOCATION:Salle La Locomotive\, 261 Rte d'Uriage\, Vizille\, 38220\, France
CATEGORIES:Lune et Lautre
END:VEVENT
END:VCALENDAR