BEGIN:VCALENDAR
VERSION:2.0
PRODID:-//Les Entêtés Production - ECPv5.14.0.3//NONSGML v1.0//EN
CALSCALE:GREGORIAN
METHOD:PUBLISH
X-WR-CALNAME:Les Entêtés Production
X-ORIGINAL-URL:https://lesentetes.com
X-WR-CALDESC:évènements pour Les Entêtés Production
BEGIN:VTIMEZONE
TZID:Europe/Paris
BEGIN:DAYLIGHT
TZOFFSETFROM:+0100
TZOFFSETTO:+0200
TZNAME:CEST
DTSTART:20220327T010000
END:DAYLIGHT
BEGIN:STANDARD
TZOFFSETFROM:+0200
TZOFFSETTO:+0100
TZNAME:CET
DTSTART:20221030T010000
END:STANDARD
END:VTIMEZONE
BEGIN:VEVENT
DTSTART;TZID=Europe/Paris:20220615T203000
DTEND;TZID=Europe/Paris:20220615T213000
DTSTAMP:20260425T202341
CREATED:20220517T133608Z
LAST-MODIFIED:20220517T133608Z
UID:13448-1655325000-1655328600@lesentetes.com
SUMMARY:SOLEO - Festival ACTES - Salle Jean Carmet (72)
DESCRIPTION:
URL:https://lesentetes.com/event/soleo-festival-actes-salle-jean-carmet-72/
LOCATION:Salle Jean Carmet\, 5 boulevard d’Anjou\, Allonnes\, 72700\, France
CATEGORIES:soleo
END:VEVENT
END:VCALENDAR