BEGIN:VCALENDAR
VERSION:2.0
PRODID:-//Les Entêtés Production - ECPv5.14.0.3//NONSGML v1.0//EN
CALSCALE:GREGORIAN
METHOD:PUBLISH
X-WR-CALNAME:Les Entêtés Production
X-ORIGINAL-URL:https://lesentetes.com
X-WR-CALDESC:évènements pour Les Entêtés Production
BEGIN:VTIMEZONE
TZID:Europe/Paris
BEGIN:DAYLIGHT
TZOFFSETFROM:+0100
TZOFFSETTO:+0200
TZNAME:CEST
DTSTART:20220327T010000
END:DAYLIGHT
BEGIN:STANDARD
TZOFFSETFROM:+0200
TZOFFSETTO:+0100
TZNAME:CET
DTSTART:20221030T010000
END:STANDARD
END:VTIMEZONE
BEGIN:VEVENT
DTSTART;TZID=Europe/Paris:20221007T203000
DTEND;TZID=Europe/Paris:20221007T213000
DTSTAMP:20260425T141714
CREATED:20220825T081311Z
LAST-MODIFIED:20220825T081807Z
UID:13796-1665174600-1665178200@lesentetes.com
SUMMARY:SOLEO - Espace Culturel Emile Joulain - Le Cube\, Longué-Jumelles (49)
DESCRIPTION:
URL:https://lesentetes.com/event/soleo-musique-en-mouvement-espace-culturel-emile-joulain-le-cube-49/
LOCATION:Le Cube\, rue du Collège\, Longué-Jumelles\, 49160\, France
CATEGORIES:soleo
END:VEVENT
END:VCALENDAR