BEGIN:VCALENDAR
VERSION:2.0
PRODID:-//Les Entêtés Production - ECPv5.14.0.3//NONSGML v1.0//EN
CALSCALE:GREGORIAN
METHOD:PUBLISH
X-WR-CALNAME:Les Entêtés Production
X-ORIGINAL-URL:https://lesentetes.com
X-WR-CALDESC:évènements pour Les Entêtés Production
BEGIN:VTIMEZONE
TZID:Europe/Paris
BEGIN:DAYLIGHT
TZOFFSETFROM:+0100
TZOFFSETTO:+0200
TZNAME:CEST
DTSTART:20230326T010000
END:DAYLIGHT
BEGIN:STANDARD
TZOFFSETFROM:+0200
TZOFFSETTO:+0100
TZNAME:CET
DTSTART:20231029T010000
END:STANDARD
END:VTIMEZONE
BEGIN:VEVENT
DTSTART;TZID=Europe/Paris:20230405T183000
DTEND;TZID=Europe/Paris:20230405T193000
DTSTAMP:20260424T175500
CREATED:20221114T135803Z
LAST-MODIFIED:20221114T135803Z
UID:14843-1680719400-1680723000@lesentetes.com
SUMMARY:SOLEO - Centre Départemental Rasteau (84)
DESCRIPTION:Mercredi 5 avril 2023 à 18h30\nDès 6 ans – 55 min\nTarifs : TP 12€ / TR 6€ / Pass Famille 30€ / Visa Culture 3€\nRéservation :  04 32 40 33 33
URL:https://lesentetes.com/event/soleo-centre-departemental-rasteau-84/
LOCATION:Centre Départemental Rasteau\, 746 Route Du Stade\, Rasteau\, 84110\, France
CATEGORIES:soleo
END:VEVENT
END:VCALENDAR