BEGIN:VCALENDAR
VERSION:2.0
PRODID:-//Les Entêtés Production - ECPv5.14.0.3//NONSGML v1.0//EN
CALSCALE:GREGORIAN
METHOD:PUBLISH
X-WR-CALNAME:Les Entêtés Production
X-ORIGINAL-URL:https://lesentetes.com
X-WR-CALDESC:évènements pour Les Entêtés Production
BEGIN:VTIMEZONE
TZID:Europe/Paris
BEGIN:DAYLIGHT
TZOFFSETFROM:+0100
TZOFFSETTO:+0200
TZNAME:CEST
DTSTART:20230326T010000
END:DAYLIGHT
BEGIN:STANDARD
TZOFFSETFROM:+0200
TZOFFSETTO:+0100
TZNAME:CET
DTSTART:20231029T010000
END:STANDARD
END:VTIMEZONE
BEGIN:VEVENT
DTSTART;TZID=Europe/Paris:20230422T200000
DTEND;TZID=Europe/Paris:20230422T233000
DTSTAMP:20260424T175413
CREATED:20230213T154554Z
LAST-MODIFIED:20230313T080850Z
UID:14983-1682193600-1682206200@lesentetes.com
SUMMARY:SOLEO - Salle des Fêtes de Duerne (69)
DESCRIPTION:Le Comité d’Animation Duernois accueillera SOLEO bientôt\, bientôt !!\n\n\nOn a hâte de vous faire découvrir le groupe SOLEO\, le samedi 22 avril à la salle des fêtes de Duerne\, en formule cabaret : une boisson offerte à votre arrivée\, possibilité de vous restaurer sur place avec nos planches apéritives.\n\n\nEn première partie de soirée à 20h Manon Dupre et ensuite place à l’univers Soleo à 22h30 : Spectacle de musique et de percussion corporelle avec trois artistes jouant vibraphone\, voix\, claviers et guitares au service de l’humour et de l’amour.\n\n\nInfo résas : 04 78 48 64 32 Monts du Lyonnais Tourisme et Le rendez vous des saveurs\n\n\nÇa sera chouette\, vous venez ?
URL:https://lesentetes.com/event/soleo-salle-des-fetes-de-duerne-69/
LOCATION:Salle des Fêtes de Duerne\, 18 Rue des Écoles\, Duerne\, 69850\, France
CATEGORIES:soleo
END:VEVENT
END:VCALENDAR