BEGIN:VCALENDAR
VERSION:2.0
PRODID:-//Les Entêtés Production - ECPv5.14.0.3//NONSGML v1.0//EN
CALSCALE:GREGORIAN
METHOD:PUBLISH
X-WR-CALNAME:Les Entêtés Production
X-ORIGINAL-URL:https://lesentetes.com
X-WR-CALDESC:évènements pour Les Entêtés Production
BEGIN:VTIMEZONE
TZID:Europe/Paris
BEGIN:DAYLIGHT
TZOFFSETFROM:+0100
TZOFFSETTO:+0200
TZNAME:CEST
DTSTART:20230326T010000
END:DAYLIGHT
BEGIN:STANDARD
TZOFFSETFROM:+0200
TZOFFSETTO:+0100
TZNAME:CET
DTSTART:20231029T010000
END:STANDARD
END:VTIMEZONE
BEGIN:VEVENT
DTSTART;TZID=Europe/Paris:20231017T103000
DTEND;TZID=Europe/Paris:20231017T113000
DTSTAMP:20260424T091548
CREATED:20230828T151412Z
LAST-MODIFIED:20231012T132004Z
UID:16301-1697538600-1697542200@lesentetes.com
SUMMARY:SOLEO - La Grange de Biozat (03) - séance scolaire
DESCRIPTION:Séance scolaire à 10h30 – ouverte aux professionnels
URL:https://lesentetes.com/event/soleo-la-grange-de-biozat-03/
LOCATION:La Grange de Biozat\, 7 Route des Cluzeaux\, Biozat\, 03800\, France
CATEGORIES:soleo
END:VEVENT
END:VCALENDAR