BEGIN:VCALENDAR
VERSION:2.0
PRODID:-//Les Entêtés Production - ECPv5.14.0.3//NONSGML v1.0//EN
CALSCALE:GREGORIAN
METHOD:PUBLISH
X-WR-CALNAME:Les Entêtés Production
X-ORIGINAL-URL:https://lesentetes.com
X-WR-CALDESC:évènements pour Les Entêtés Production
BEGIN:VTIMEZONE
TZID:Europe/Paris
BEGIN:DAYLIGHT
TZOFFSETFROM:+0100
TZOFFSETTO:+0200
TZNAME:CEST
DTSTART:20230326T010000
END:DAYLIGHT
BEGIN:STANDARD
TZOFFSETFROM:+0200
TZOFFSETTO:+0100
TZNAME:CET
DTSTART:20231029T010000
END:STANDARD
END:VTIMEZONE
BEGIN:VEVENT
DTSTART;TZID=Europe/Paris:20231026T190000
DTEND;TZID=Europe/Paris:20231026T200000
DTSTAMP:20260424T091656
CREATED:20230620T082700Z
LAST-MODIFIED:20230919T134503Z
UID:15889-1698346800-1698350400@lesentetes.com
SUMMARY:SOLEO - Festival Croq'La Scène - Machecoul (44)
DESCRIPTION:Théâtre Espace de Retz \nMachecoul-Saint-Même
URL:https://lesentetes.com/event/soleo-festival-croqla-scene-machecoul-44/
LOCATION:Festival Croq’La Scène\, Machecoul\, 44270\, France
CATEGORIES:soleo
END:VEVENT
END:VCALENDAR