BEGIN:VCALENDAR
VERSION:2.0
PRODID:-//Les Entêtés Production - ECPv5.14.0.3//NONSGML v1.0//EN
CALSCALE:GREGORIAN
METHOD:PUBLISH
X-WR-CALNAME:Les Entêtés Production
X-ORIGINAL-URL:https://lesentetes.com
X-WR-CALDESC:évènements pour Les Entêtés Production
BEGIN:VTIMEZONE
TZID:Europe/Paris
BEGIN:DAYLIGHT
TZOFFSETFROM:+0100
TZOFFSETTO:+0200
TZNAME:CEST
DTSTART:20230326T010000
END:DAYLIGHT
BEGIN:STANDARD
TZOFFSETFROM:+0200
TZOFFSETTO:+0100
TZNAME:CET
DTSTART:20231029T010000
END:STANDARD
END:VTIMEZONE
BEGIN:VEVENT
DTSTART;TZID=Europe/Paris:20231103T203000
DTEND;TZID=Europe/Paris:20231103T213000
DTSTAMP:20260424T080651
CREATED:20230621T122944Z
LAST-MODIFIED:20230621T122944Z
UID:15906-1699043400-1699047000@lesentetes.com
SUMMARY:SOLEO - L'Agora - Le Crès (34)
DESCRIPTION:
URL:https://lesentetes.com/event/soleo-lagora-le-cres-34/
LOCATION:L’Agora\, Voie Domitienne\, Le Crès\, 34920\, France
CATEGORIES:soleo
END:VEVENT
END:VCALENDAR