BEGIN:VCALENDAR
VERSION:2.0
PRODID:-//Les Entêtés Production - ECPv5.14.0.3//NONSGML v1.0//EN
CALSCALE:GREGORIAN
METHOD:PUBLISH
X-WR-CALNAME:Les Entêtés Production
X-ORIGINAL-URL:https://lesentetes.com
X-WR-CALDESC:évènements pour Les Entêtés Production
BEGIN:VTIMEZONE
TZID:Europe/Paris
BEGIN:DAYLIGHT
TZOFFSETFROM:+0100
TZOFFSETTO:+0200
TZNAME:CEST
DTSTART:20230326T010000
END:DAYLIGHT
BEGIN:STANDARD
TZOFFSETFROM:+0200
TZOFFSETTO:+0100
TZNAME:CET
DTSTART:20231029T010000
END:STANDARD
END:VTIMEZONE
BEGIN:VEVENT
DTSTART;TZID=Europe/Paris:20231217T170000
DTEND;TZID=Europe/Paris:20231217T180000
DTSTAMP:20260424T062133
CREATED:20231115T085434Z
LAST-MODIFIED:20231115T092410Z
UID:16526-1702832400-1702836000@lesentetes.com
SUMMARY:SOLEO - Festival Noël au Pays du Jouet\, Moirans-en-Montagne (39)
DESCRIPTION:
URL:https://lesentetes.com/event/soleo-festival-noel-au-pays-du-jouet-moirans-en-montagne-39/
LOCATION:Ciné-Théâtre de Moirans en Montagne\, Moirans-en-Montagne\, 39260\, France
CATEGORIES:soleo
END:VEVENT
END:VCALENDAR