BEGIN:VCALENDAR
VERSION:2.0
PRODID:-//Les Entêtés Production - ECPv5.14.0.3//NONSGML v1.0//EN
CALSCALE:GREGORIAN
METHOD:PUBLISH
X-WR-CALNAME:Les Entêtés Production
X-ORIGINAL-URL:https://lesentetes.com
X-WR-CALDESC:évènements pour Les Entêtés Production
BEGIN:VTIMEZONE
TZID:Europe/Paris
BEGIN:DAYLIGHT
TZOFFSETFROM:+0100
TZOFFSETTO:+0200
TZNAME:CEST
DTSTART:20230326T010000
END:DAYLIGHT
BEGIN:STANDARD
TZOFFSETFROM:+0200
TZOFFSETTO:+0100
TZNAME:CET
DTSTART:20231029T010000
END:STANDARD
END:VTIMEZONE
BEGIN:VEVENT
DTSTART;TZID=Europe/Paris:20231219T193000
DTEND;TZID=Europe/Paris:20231219T203000
DTSTAMP:20260424T062226
CREATED:20230712T100457Z
LAST-MODIFIED:20231212T092428Z
UID:16044-1703014200-1703017800@lesentetes.com
SUMMARY:SOLEO - Espace Paul Jargot -Crolles (38)
DESCRIPTION:Séance à 19h30
URL:https://lesentetes.com/event/soleo-espace-paul-jargot-crolles-38/
LOCATION:Espace Paul Jargot\, 191 Rue François Mitterand\, Crolles\, 38920\, France
CATEGORIES:soleo
END:VEVENT
END:VCALENDAR