BEGIN:VCALENDAR
VERSION:2.0
PRODID:-//Les Entêtés Production - ECPv5.14.0.3//NONSGML v1.0//EN
CALSCALE:GREGORIAN
METHOD:PUBLISH
X-WR-CALNAME:Les Entêtés Production
X-ORIGINAL-URL:https://lesentetes.com
X-WR-CALDESC:évènements pour Les Entêtés Production
BEGIN:VTIMEZONE
TZID:Europe/Paris
BEGIN:DAYLIGHT
TZOFFSETFROM:+0100
TZOFFSETTO:+0200
TZNAME:CEST
DTSTART:20240331T010000
END:DAYLIGHT
BEGIN:STANDARD
TZOFFSETFROM:+0200
TZOFFSETTO:+0100
TZNAME:CET
DTSTART:20241027T010000
END:STANDARD
END:VTIMEZONE
BEGIN:VEVENT
DTSTART;TZID=Europe/Paris:20240326T180000
DTEND;TZID=Europe/Paris:20240326T220000
DTSTAMP:20260424T014301
CREATED:20240110T144645Z
LAST-MODIFIED:20240305T083358Z
UID:16610-1711476000-1711490400@lesentetes.com
SUMMARY:SOLEO - Le Printemps des Poètes\, Matha (17)
DESCRIPTION:Salle des fêtes de de Matha | Tout public | Assis\, placement libre | Prix libre à partir de 2€\, réservation obligatoire \nBILLETTERIE \n \nOuverture des portes 18h00 \nBar et restauration de produits locaux sur place \nSOLEO – 20h45\nEN PREMIÈRE PARTIE – 18H00\n• Restitution des PEAC de percussions corporelles\, mené par la Cie Tumback\, des classes de 3ème du collège de Matha\, de CM2 de l’école élémentaire publique\, de seconde de la MFR de Matha et des jeunes du Local Jeunes de Matha et du MRJC.• Saynètes de l’école La Providence• Chorale des Baladins de l’Antenne• Spectacle du Centre d’Accueil de Demandeurs d’Asile de Saint-Ouen-la-Thène• Et la participation de SOS Village de Beauvais-sur-Matha\, l’EHPAD Résidence du Vals d’Antenne et le foyer de vie La Passerelle
URL:https://lesentetes.com/event/soleo-le-printemps-des-poetes-matha-17/
LOCATION:Salle des Fêtes de Matha\, Rue d'Angoulême\, Matha\, 17160\, France
CATEGORIES:soleo
END:VEVENT
END:VCALENDAR