BEGIN:VCALENDAR
VERSION:2.0
PRODID:-//Les Entêtés Production - ECPv5.14.0.3//NONSGML v1.0//EN
CALSCALE:GREGORIAN
METHOD:PUBLISH
X-WR-CALNAME:Les Entêtés Production
X-ORIGINAL-URL:https://lesentetes.com
X-WR-CALDESC:évènements pour Les Entêtés Production
BEGIN:VTIMEZONE
TZID:Europe/Paris
BEGIN:DAYLIGHT
TZOFFSETFROM:+0100
TZOFFSETTO:+0200
TZNAME:CEST
DTSTART:20240331T010000
END:DAYLIGHT
BEGIN:STANDARD
TZOFFSETFROM:+0200
TZOFFSETTO:+0100
TZNAME:CET
DTSTART:20241027T010000
END:STANDARD
END:VTIMEZONE
BEGIN:VEVENT
DTSTART;TZID=Europe/Paris:20241014T100000
DTEND;TZID=Europe/Paris:20241014T151500
DTSTAMP:20260423T041734
CREATED:20240806T092030Z
LAST-MODIFIED:20240806T092030Z
UID:17122-1728900000-1728918900@lesentetes.com
SUMMARY:SOLEO - Festival Les Enfantaisies\, Sainte-Hermine (85) - séances scolaires
DESCRIPTION:Séances scolaires ouvertes aux professionnels \nLundi 14 octobre 2024 \n10h \n14h15
URL:https://lesentetes.com/event/soleo-festival-les-enfantaisies-sainte-hermine-85-seances-scolaires/
LOCATION:Salle Polyvalente de Sainte-Hermine\, Route de La Rochelle\, Sainte-Hermine\, 85210\, France
CATEGORIES:soleo
END:VEVENT
END:VCALENDAR