BEGIN:VCALENDAR
VERSION:2.0
PRODID:-//Les Entêtés Production - ECPv5.14.0.3//NONSGML v1.0//EN
CALSCALE:GREGORIAN
METHOD:PUBLISH
X-WR-CALNAME:Les Entêtés Production
X-ORIGINAL-URL:https://lesentetes.com
X-WR-CALDESC:évènements pour Les Entêtés Production
BEGIN:VTIMEZONE
TZID:Europe/Paris
BEGIN:DAYLIGHT
TZOFFSETFROM:+0100
TZOFFSETTO:+0200
TZNAME:CEST
DTSTART:20240331T010000
END:DAYLIGHT
BEGIN:STANDARD
TZOFFSETFROM:+0200
TZOFFSETTO:+0100
TZNAME:CET
DTSTART:20241027T010000
END:STANDARD
END:VTIMEZONE
BEGIN:VEVENT
DTSTART;TZID=Europe/Paris:20241115T203000
DTEND;TZID=Europe/Paris:20241115T213000
DTSTAMP:20260423T004044
CREATED:20240806T092131Z
LAST-MODIFIED:20241002T131321Z
UID:17130-1731702600-1731706200@lesentetes.com
SUMMARY:ANNULÉ - SOLEO - Salle Corot Haut\, Saintry-sur-Seine (91) - ANNULÉ
DESCRIPTION:Séance ANNULÉE \nReport prévu en 2025 ou 2026
URL:https://lesentetes.com/event/soleo-salle-corot-haut-saintry-sur-seine-91/
LOCATION:Salle Corot Haut\, 175 Route de Morsang\, Saintry-sur-Seine\, 91250\, France
CATEGORIES:soleo
END:VEVENT
END:VCALENDAR