BEGIN:VCALENDAR
VERSION:2.0
PRODID:-//Les Entêtés Production - ECPv5.14.0.3//NONSGML v1.0//EN
CALSCALE:GREGORIAN
METHOD:PUBLISH
X-WR-CALNAME:Les Entêtés Production
X-ORIGINAL-URL:https://lesentetes.com
X-WR-CALDESC:évènements pour Les Entêtés Production
BEGIN:VTIMEZONE
TZID:Europe/Paris
BEGIN:DAYLIGHT
TZOFFSETFROM:+0100
TZOFFSETTO:+0200
TZNAME:CEST
DTSTART:20240331T010000
END:DAYLIGHT
BEGIN:STANDARD
TZOFFSETFROM:+0200
TZOFFSETTO:+0100
TZNAME:CET
DTSTART:20241027T010000
END:STANDARD
END:VTIMEZONE
BEGIN:VEVENT
DTSTART;TZID=Europe/Paris:20241126T100000
DTEND;TZID=Europe/Paris:20241126T110000
DTSTAMP:20260423T004112
CREATED:20240806T092321Z
LAST-MODIFIED:20240909T092409Z
UID:17138-1732615200-1732618800@lesentetes.com
SUMMARY:SOLEO - Centre Culturel de La Ricamarie (42) - séance scolaire
DESCRIPTION:Séances scolaires ouvertes aux professionnels \nSéances le mardi 26 novembre 2024 \n10h00 \n14h30 \nSalle Louis Daquin
URL:https://lesentetes.com/event/soleo-centre-culturel-de-la-ricamarie-42-seances-scolaires/
LOCATION:Centre Culturel La Ricamarie\, Avenue Maurice Thorez\, La Ricamarie\, 42150\, France
CATEGORIES:soleo
END:VEVENT
BEGIN:VEVENT
DTSTART;TZID=Europe/Paris:20241126T143000
DTEND;TZID=Europe/Paris:20241126T153000
DTSTAMP:20260423T004112
CREATED:20240909T065318Z
LAST-MODIFIED:20240909T092353Z
UID:17585-1732631400-1732635000@lesentetes.com
SUMMARY:SOLEO - Centre Culturel La Ricamarie (42) - séance scolaire
DESCRIPTION:Séances scolaires ouvertes aux professionnels \nSéances le mardi 26 novembre 2024 \n10h00 \n14h30 \nSalle Louis Daquin
URL:https://lesentetes.com/event/soleo-centre-culturel-la-ricamarie-42-seances-scolaires/
LOCATION:Centre Culturel La Ricamarie\, Avenue Maurice Thorez\, La Ricamarie\, 42150\, France
CATEGORIES:soleo
END:VEVENT
END:VCALENDAR