BEGIN:VCALENDAR
VERSION:2.0
PRODID:-//Les Entêtés Production - ECPv5.14.0.3//NONSGML v1.0//EN
CALSCALE:GREGORIAN
METHOD:PUBLISH
X-WR-CALNAME:Les Entêtés Production
X-ORIGINAL-URL:https://lesentetes.com
X-WR-CALDESC:évènements pour Les Entêtés Production
BEGIN:VTIMEZONE
TZID:Europe/Paris
BEGIN:DAYLIGHT
TZOFFSETFROM:+0100
TZOFFSETTO:+0200
TZNAME:CEST
DTSTART:20230326T010000
END:DAYLIGHT
BEGIN:STANDARD
TZOFFSETFROM:+0200
TZOFFSETTO:+0100
TZNAME:CET
DTSTART:20231029T010000
END:STANDARD
END:VTIMEZONE
BEGIN:VEVENT
DTSTART;TZID=Europe/Paris:20230603T103000
DTEND;TZID=Europe/Paris:20230603T113000
DTSTAMP:20260424T115716
CREATED:20230330T131106Z
LAST-MODIFIED:20230531T130550Z
UID:15458-1685788200-1685791800@lesentetes.com
SUMMARY:TÉKLASH - Médiathèque d'Albertville (73)
DESCRIPTION:10h30-11h30
URL:https://lesentetes.com/event/teklash-mediatheque-dalbertville-73/
LOCATION:Médiathèque\, 135 Place de l'Europe\, Albertville\, 73200\, France
CATEGORIES:Téklash
END:VEVENT
END:VCALENDAR