BEGIN:VCALENDAR
VERSION:2.0
PRODID:-//Les Entêtés Production - ECPv5.14.0.3//NONSGML v1.0//EN
CALSCALE:GREGORIAN
METHOD:PUBLISH
X-WR-CALNAME:Les Entêtés Production
X-ORIGINAL-URL:https://lesentetes.com
X-WR-CALDESC:évènements pour Les Entêtés Production
BEGIN:VTIMEZONE
TZID:Europe/Paris
BEGIN:DAYLIGHT
TZOFFSETFROM:+0100
TZOFFSETTO:+0200
TZNAME:CEST
DTSTART:20230326T010000
END:DAYLIGHT
BEGIN:STANDARD
TZOFFSETFROM:+0200
TZOFFSETTO:+0100
TZNAME:CET
DTSTART:20231029T010000
END:STANDARD
END:VTIMEZONE
BEGIN:VEVENT
DTSTART;TZID=Europe/Paris:20230626T150000
DTEND;TZID=Europe/Paris:20230626T163000
DTSTAMP:20260424T105528
CREATED:20230605T102045Z
LAST-MODIFIED:20230605T102045Z
UID:15754-1687791600-1687797000@lesentetes.com
SUMMARY:TÉKLASH – ARPA – EHPAD La Tour (74)
DESCRIPTION:dispositif ARPA du Département de la Haute-Savoie
URL:https://lesentetes.com/event/teklash-arpa-ehpad-la-tour-74-2/
LOCATION:Hôpital Dufresne Sommeiller\, 498 Rte Dufresne Sommeiller\, La Tour\, 74250\, France
CATEGORIES:Téklash
END:VEVENT
END:VCALENDAR