BEGIN:VCALENDAR
VERSION:2.0
PRODID:-//Les Entêtés Production - ECPv5.14.0.3//NONSGML v1.0//EN
CALSCALE:GREGORIAN
METHOD:PUBLISH
X-WR-CALNAME:Les Entêtés Production
X-ORIGINAL-URL:https://lesentetes.com
X-WR-CALDESC:évènements pour Les Entêtés Production
BEGIN:VTIMEZONE
TZID:Europe/Paris
BEGIN:DAYLIGHT
TZOFFSETFROM:+0100
TZOFFSETTO:+0200
TZNAME:CEST
DTSTART:20240331T010000
END:DAYLIGHT
BEGIN:STANDARD
TZOFFSETFROM:+0200
TZOFFSETTO:+0100
TZNAME:CET
DTSTART:20241027T010000
END:STANDARD
END:VTIMEZONE
BEGIN:VEVENT
DTSTART;VALUE=DATE:20240215
DTEND;VALUE=DATE:20240216
DTSTAMP:20260423T224008
CREATED:20231218T161228Z
LAST-MODIFIED:20240131T085554Z
UID:16585-1707955200-1708041599@lesentetes.com
SUMMARY:TÉKLASH - Collège Fantin Latour\, Grenoble (38) - séance scolaire
DESCRIPTION:TÉKLASH – Collège Fantin Latour\, Grenoble (38) – séance scolaire
URL:https://lesentetes.com/event/teklash-college-fantin-latour-grenoble-38-seance-scolaire-2/
LOCATION:Collège Fantin Latour\, 26 Rue Nicolas Chorier\, GRENOBLE\, 38000\, France
CATEGORIES:Téklash
END:VEVENT
END:VCALENDAR